BEGIN:VCALENDAR
VERSION:2.0
PRODID:-//ELEANOR REES - ECPv6.13.2.1//NONSGML v1.0//EN
CALSCALE:GREGORIAN
METHOD:PUBLISH
X-ORIGINAL-URL:https://www.eleanorrees.info
X-WR-CALDESC:Events for ELEANOR REES
REFRESH-INTERVAL;VALUE=DURATION:PT1H
X-Robots-Tag:noindex
X-PUBLISHED-TTL:PT1H
BEGIN:VTIMEZONE
TZID:UTC
BEGIN:STANDARD
TZOFFSETFROM:+0000
TZOFFSETTO:+0000
TZNAME:UTC
DTSTART:20160101T000000
END:STANDARD
END:VTIMEZONE
BEGIN:VEVENT
DTSTART;TZID=UTC:20180630T193000
DTEND;TZID=UTC:20180630T223000
DTSTAMP:20260423T140415
CREATED:20180525T125048Z
LAST-MODIFIED:20180525T125048Z
UID:1410-1530387000-1530397800@www.eleanorrees.info
SUMMARY:The Shuffle@Poetry Cafe\, London
DESCRIPTION:Share this:Click to share on Facebook (Opens in new window)Click to share on X (Opens in new window)
URL:https://www.eleanorrees.info/reading/the-shufflepoetry-cafe-london/
END:VEVENT
BEGIN:VEVENT
DTSTART;TZID=UTC:20180528T193000
DTEND;TZID=UTC:20180528T193000
DTSTAMP:20260423T140415
CREATED:20180523T121049Z
LAST-MODIFIED:20180523T121211Z
UID:1403-1527535800-1527535800@www.eleanorrees.info
SUMMARY:Verbose@Fallow Cafe\, Manchester
DESCRIPTION:Share this:Click to share on Facebook (Opens in new window)Click to share on X (Opens in new window)
URL:https://www.eleanorrees.info/reading/verbosefallow-cafe-manchester/
LOCATION:Fallow Cafe
END:VEVENT
BEGIN:VEVENT
DTSTART;TZID=UTC:20160915T203000
DTEND;TZID=UTC:20160915T230000
DTSTAMP:20260423T140415
CREATED:20160810T115122Z
LAST-MODIFIED:20160810T115122Z
UID:1328-1473971400-1473980400@www.eleanorrees.info
SUMMARY:15th September\, Gramaphone Raygun\, Everyman Bistro\, Liverpool
DESCRIPTION:Share this:Click to share on Facebook (Opens in new window)Click to share on X (Opens in new window)
URL:https://www.eleanorrees.info/reading/15th-september-gramaphone-raygun-everyman-bistro-liverpool/
LOCATION:Everyman Bistro\, Hope Street\, Liverpool\, United Kingdom
END:VEVENT
BEGIN:VEVENT
DTSTART;TZID=UTC:20160829T210000
DTEND;TZID=UTC:20160829T210000
DTSTAMP:20260423T140415
CREATED:20160810T114912Z
LAST-MODIFIED:20160810T114933Z
UID:1326-1472504400-1472504400@www.eleanorrees.info
SUMMARY:29th August\, Obheal\, Cork\, Ireland
DESCRIPTION:Share this:Click to share on Facebook (Opens in new window)Click to share on X (Opens in new window)
URL:https://www.eleanorrees.info/reading/29th-august-obheal-cork-ireland/
LOCATION:The Long Valley\, Winthrop St\, Cork\, Winthrop St\, Cork\, Ireland
END:VEVENT
BEGIN:VEVENT
DTSTART;TZID=UTC:20160528T023000
DTEND;TZID=UTC:20160528T163000
DTSTAMP:20260423T140415
CREATED:20160502T171729Z
LAST-MODIFIED:20160502T171729Z
UID:1314-1464402600-1464453000@www.eleanorrees.info
SUMMARY:Eleanor Rees\, Sarah Corbett and Mona Arshi@Pavilion Poets\, Grasmere
DESCRIPTION:Pavilion Poetry is a new poetry series from Liverpool University Press and seeks to publish the very best in contemporary poetry to challenge and delight.  The series was launched in 2015 with new collections by three exciting voices. \nSmall Hands by Mona Arshi \nMona Arshi’s debut collection\, Small Hands\, introduces a brilliant and compelling new voice.  At the centre of the book is the slow detonation of grief after her brother’s death but her work focuses on the whole variety of human experience – pleasure\, hardship\, tradition – energised by language that is in turn both tender and risky. Often startling as well as lyrical\, Arshi’s poems resist fixity; there is a gentle poignancy at work here that haunts many of the poems. This is humane poetry. Arshi’s is a daring\, moving and original voice. \n\nAnd She Was: A Verse Novel by Sarah Corbett \nA soul’s journey through the night\, a missing woman: time and narrative bend and interlock across a play of poetic forms and voices to make one story of love and loss. In And She Was\, Corbett combines the fictional spell-making of Haruki Murakami with the filmic neo-noir of Atom Egoyan (Exotica) and David Lynch (Lost Highway\, Mulholland Drive)\, to push the boundaries of poetic genre\, asking us to renegotiate the way in which we encounter and reconfigure ourselves through trauma\, in desire\, or as we seek to reassemble ourselves and our past. And She Was demands our attention; its startling and dazzling writing asks us to be carried away as we read\, but returns us by its end to a place both resolved and transformed.\n \nBlood Child by Eleanor Rees \nIn her third full-length collection Blood Child\, Eleanor Rees hones and extends her startling use of language and imagery to enact the many aspects of change – fleeting\, elusive or moored – in a negotiation of the material world as she roams through the landscapes of self and city. The idea of generation is explored in all its possibilities\, the ‘child’ and the ‘girl’ are recurrent motifs\, immanent and on the threshold of a magical or imaginative transformation. Landscapes are crossed\, swum\, burrowed under or flown above; skins and edges are sheared or lost\, new coverings found and remade. Rees’s poems ask how new routes can be forged across shifting terrain and she offers the emergent space of the imagination as the only answer. \n\nCost: free \nShare this:Click to share on Facebook (Opens in new window)Click to share on X (Opens in new window)
URL:https://www.eleanorrees.info/reading/eleanor-rees-sarah-corbett-and-mona-arshipavilion-poets-grasmere/
LOCATION:The Wordsworth Trust\, Grasmere\, LA22 9SH
END:VEVENT
BEGIN:VEVENT
DTSTART;TZID=UTC:20160316T190000
DTEND;TZID=UTC:20160316T210000
DTSTAMP:20260423T140415
CREATED:20150912T185045Z
LAST-MODIFIED:20151129T194626Z
UID:1246-1458154800-1458162000@www.eleanorrees.info
SUMMARY:Eleanor Rees and Sarah Corbett\, 16th March\, Aberystwyth Arts Centre
DESCRIPTION:  \nShare this:Click to share on Facebook (Opens in new window)Click to share on X (Opens in new window)
URL:https://www.eleanorrees.info/reading/9th-march-eleanor-rees-and-sarah-corbett-aberystwyth-arts-centre/
LOCATION:Aberystwyth Arts Centre
END:VEVENT
BEGIN:VEVENT
DTSTART;TZID=UTC:20160225T193000
DTEND;TZID=UTC:20160225T210000
DTSTAMP:20260423T140415
CREATED:20150912T183435Z
LAST-MODIFIED:20151129T194702Z
UID:1244-1456428600-1456434000@www.eleanorrees.info
SUMMARY:Eleanor Rees\, 25th Feb\, Phoenix Arts Centre\, Exeter
DESCRIPTION:Eleanor Rees Solo Reading \nDetails to follow \nShare this:Click to share on Facebook (Opens in new window)Click to share on X (Opens in new window)
URL:https://www.eleanorrees.info/reading/25th-feb-2016-unplugged-phoenix-arts-centre-exeter/
LOCATION:Phoenix Arts Centre\, Exeter
END:VEVENT
BEGIN:VEVENT
DTSTART;TZID=UTC:20160204T200000
DTEND;TZID=UTC:20160204T220000
DTSTAMP:20260423T140415
CREATED:20150912T190333Z
LAST-MODIFIED:20151129T194824Z
UID:1248-1454616000-1454623200@www.eleanorrees.info
SUMMARY:Eleanor Rees and Helen Tookey\,4th Feb Ainsdale Library
DESCRIPTION:Ainsdale Library \nDetails to follow. \nTimes to be confirmed. \nShare this:Click to share on Facebook (Opens in new window)Click to share on X (Opens in new window)
URL:https://www.eleanorrees.info/reading/eleanor-rees-and-helen-tookey/
END:VEVENT
BEGIN:VEVENT
DTSTART;TZID=UTC:20160128T200000
DTEND;TZID=UTC:20160128T230000
DTSTAMP:20260423T140415
CREATED:20160128T080001Z
LAST-MODIFIED:20160113T142800Z
UID:1261-1454011200-1454022000@www.eleanorrees.info
SUMMARY:Eleanor Rees\, 28th Jan\, Leaf Café Liverpool
DESCRIPTION:  \nTHE FIRST AND LAST \nby Triassic Tusk\, The Skinny Magazine and Neu! Reekie! \nThursday 28th January 2016 \nLEAF on Bold Street\, Liverpool \n20:00 – Midnight \nTickets/info: \nhttp://firstandlast.bpt.me \n  \nSTARRING \n  \nPETE WYLIE of THE MIGHTY WAH! \nPart time rock star – full time legend. Pete is a musician/composer best known as the leader of the band The Mighty Wah! His string of massive hits include The Story Of The Blues\, Come Back\, Sinful\, 7 Minutes to Midnight and the LFC anthem Heart As Big As Liverpool\, and has written scores for Hurricane Films\, Alex Cox and Radio 4. \nhttp://www.pbjmgt.co.uk/artist/pete-wylie \nwww.petewylie.co.uk \n  \nHOLLIE MCNISH \nPoetry’s wonder women\, Hollie is a UK poet and spoken word artist who straddles the boundaries between the literary\, poetic and pop scenes; with millions of YouTube hits\, she sells out venues all over the UK and was the first poet to record an album at Abbey Road Studios. \nSee: http://holliepoetry.com \n  \nEUGENE KELLY of THE VASELINES \nsinger-songwriter\, head honcho and founding member of internationally celebrated band The Vaselines; with Nirvana covering their songs Kurt Cobain remarked of the band ‘my favourite songwriters in the whole world’. \nSee: http://www.thevaselines.co.uk \n  \nELEANOR REES: \nauthor of ‘Andraste’s Hair’ (Salt\, 2007)\, shortlisted for the Forward Prize for Best First Collection and the Glen Dimplex New Writers Awards\, ‘Eliza and the Bear’ (Salt\, 2009) and ‘Blood Child’ (Pavilion/LUP\, 2015). Eleanor has worked extensively as a local poet in the community and is Lecturer in Creative Writing at Liverpool Hope University. \nSee: http://www.eleanorrees.info \n  \n  \nAND\, you’ll hear words and music from the team: \n\nMICHAEL PEDERSEN: award-winning poet\, playwright and Neu! Reekie! co-founder.\nKEVIN WILLIAMSON: poet\, publisher\, political live wire / Neu! Reekie! co-founder.\nLOMOND CAMPBELL: singer-songwriter and frontman of BAFTA winning band / arts collective FOUND.\nWHISKY STEPHEN: DJ\, pusher of whisky\, world-renowned record collector\, Triassic Tusk chieftain.\n\n  \nPLUS SURPRISE GUESTS – bobby-dazzlers at that. \n  \nTickets: http://firstandlast.bpt.me \n(early bird £5 – then £7 on the door) \n  \nCurated and presented by:\nThe Skinny \nThe Skinny magazine has been covering exciting happenings and emerging talent on the Northwest cultural scene since April 2013. Priding itself on providing independent cultural journalism across Liverpool and Manchester\, The Skinny surveys everything from theatre to film to visual arts in print every month and online at theskinny.co.uk. Here at Skinny HQ we love the innovative and multidisciplinary and as such we’re thrilled to be partnering this ace night of music and spoken word\, drawing from Liverpool\, Scotland and beyond. \n  \nNeu! Reekie! \nAbout to turn five\, Neu! Reekie! is an award winning publishing house\, micro label and events curator that have exhibited their poetry\, animation and music showcases all across Scotland and beyond (US\, Japan\, Africa). Working with Creative Scotland and British Council they create bespoke shows for National Galleries\, International Films Festivals and Music Festivals\, involving some of the UK’s top names in art\, music and culture. See: http://www.scotsman.com/lifestyle/books/neu-reekie-a-festival-sprawling-across-scotland-1-3821693#axzz3qXAZcpHy \n  \nTriassic Tusk: \nTriassic Tusk is a new record label brought to you by The FOUND Collective and launching at this very event. \nTriassic Tusk will compile and re-issue rare records from FOUND’s vinyl collection. \nTriassic Tusk will release music by FOUND Collective members. \nTriassic Tusk will release music by our favourite artists. \nThe name Triassic Tusk is taken from a line in a poem we love. \nhttps://www.dustandgrooves.com/stephen-marshall-edinburgh-scotland/ \n  \n  \nLINKS: \nwww.theskinny.co.uk \nwww.neureekie.co.uk \nhttps://www.facebook.com/triassictusk23 \n  \nTickets: http://firstandlast.bpt.me \n  \nShare this:Click to share on Facebook (Opens in new window)Click to share on X (Opens in new window)
URL:https://www.eleanorrees.info/reading/eleanor-rees-the-first-and-last-neureekie-leaf-liverpool-28th-jan/
LOCATION:Leaf\, Bold Street\, Liverpool
CATEGORIES:Events,Readings
END:VEVENT
END:VCALENDAR